Workbook

Sheet 出品申込書（R8～）
A1: ※令和8年度より、事前申込制を開始しました。 事前申込期間［10/1（木）～10/30（金）］に出品申込書をご提出ください。
B4: 【提出方法】※「①メール」での提出を推奨しております※ ①メール 「出品申込書（R8～）」シートを記入後、このExcelデータを「hhmoa.shibiten@hhgrow.org」までお送りください。 ②郵送・FAX・当館へ持参 記入した「出品申込書のみ」、東広島市立美術館へご提出ください。 宛先：〒739-0015 東広島市西条栄町9-1 東広島市美術展担当者宛 FAX：082-430-7118
B6: ※作品受付時の日時について、11月10日（火）ごろまでに美術館からご連絡いたします。万が一、連絡がない場合にはお手数ですが、東広島市立美術館（082-430-7117）へお電話をお願いいたします。
B8: 第39回東広島市美術展ジュニア部門【出品申込書】
B9: 太線枠内の必要事項を記入してください。 | G9: □応募規定を了承のうえ、出品します。 □申込内容について確認しました。
B10: ※この申込書に記載された内容が、作品キャプション等に使用されますので、楷書で丁寧にご記入ください。
B12: １ 団体情報記入欄
B13: ふりがな | F13: 住所 | G13: 〒
B14: 団体名
B15: ご担当者名 | F15: 電話番号 | G15: （ ） －
B17: ２ 作品搬入一覧
B18: 種目 | F18: 絵画、書、彫刻、工芸、写真、デザインの中から１つ記入
A22: No. | B22: 受付番号 | C22: 氏名 | D22: 氏名（ふりがな） | F22: 題名 | G22: 題名（ふりがな） | L22: 学校名 | M22: 学年
A23: 1
A24: 2
A25: 3
A26: 4
A27: 5
A28: 6
A29: 7
A30: 8
A31: 9
A32: 10
A33: 11
A34: 12
... A40: 18
A41: ※18点以上の作品を出品される場合、また、複数の種目の出品をする場合は、この用紙・シートを必要部数コピーしてご利用ください。

Sheet 【編集しないでください】作品貼り付け票（R8～）
A1: 【作品貼り付け票１】 | D1: 【作品貼り付け票２】 | G1: 【作品貼り付け票３】
A2: ふりがな | B2: ='出品申込書（R8～）'!D23 -> 0 | D2: ふりがな | E2: ='出品申込書（R8～）'!D24 -> 0 | G2: ふりがな | H2: ='出品申込書（R8～）'!D25 -> 0
A3: 氏名 | B3: ='出品申込書（R8～）'!C23 -> 0 | D3: 氏名 | E3: ='出品申込書（R8～）'!C24 -> 0 | G3: 氏名 | H3: ='出品申込書（R8～）'!C25 -> 0
A4: ふりがな | B4: ='出品申込書（R8～）'!G23 -> 0 | D4: ふりがな | E4: ='出品申込書（R8～）'!G24 -> 0 | G4: ふりがな | H4: ='出品申込書（R8～）'!G25 -> 0
A5: 題名 | B5: ='出品申込書（R8～）'!F23 -> 0 | D5: 題名 | E5: ='出品申込書（R8～）'!F24 -> 0 | G5: 題名 | H5: ='出品申込書（R8～）'!F25 -> 0
A6: 種目 | B6: ='出品申込書（R8～）'!C18 -> 0 | D6: 種目 | E6: ='出品申込書（R8～）'!C18 -> 0 | G6: 種目 | H6: ='出品申込書（R8～）'!C18 -> 0
A7: 学校名 | B7: ='出品申込書（R8～）'!L23 -> 0 | D7: 学校名 | E7: ='出品申込書（R8～）'!L24 -> 0 | G7: 学校名 | H7: ='出品申込書（R8～）'!L25 -> 0
A8: 学年 | B8: ='出品申込書（R8～）'!M23 -> 0 | D8: 学年 | E8: ='出品申込書（R8～）'!M24 -> 0 | G8: 学年 | H8: ='出品申込書（R8～）'!M25 -> 0
A9: 受付番号 | B9: ='出品申込書（R8～）'!B23 -> 0 | D9: 受付番号 | E9: ='出品申込書（R8～）'!B24 -> 0 | G9: 受付番号 | H9: ='出品申込書（R8～）'!B25 -> 0
A11: 【作品貼り付け票４】 | D11: 【作品貼り付け票５】 | G11: 【作品貼り付け票６】
A12: ふりがな | B12: ='出品申込書（R8～）'!D26 -> 0 | D12: ふりがな | E12: ='出品申込書（R8～）'!D27 -> 0 | G12: ふりがな | H12: ='出品申込書（R8～）'!D28 -> 0
A13: 氏名 | B13: ='出品申込書（R8～）'!C26 -> 0 | D13: 氏名 | E13: ='出品申込書（R8～）'!C27 -> 0 | G13: 氏名 | H13: ='出品申込書（R8～）'!C28 -> 0
A14: ふりがな | B14: ='出品申込書（R8～）'!G26 -> 0 | D14: ふりがな | E14: ='出品申込書（R8～）'!G27 -> 0 | G14: ふりがな | H14: ='出品申込書（R8～）'!G28 -> 0
A15: 題名 | B15: ='出品申込書（R8～）'!F26 -> 0 | D15: 題名 | E15: ='出品申込書（R8～）'!F27 -> 0 | G15: 題名 | H15: ='出品申込書（R8～）'!F28 -> 0
A16: 種目 | B16: ='出品申込書（R8～）'!C18 -> 0 | D16: 種目 | E16: ='出品申込書（R8～）'!C18 -> 0 | G16: 種目 | H16: ='出品申込書（R8～）'!C18 -> 0
A17: 学校名 | B17: ='出品申込書（R8～）'!L26 -> 0 | D17: 学校名 | E17: ='出品申込書（R8～）'!L27 -> 0 | G17: 学校名 | H17: ='出品申込書（R8～）'!L28 -> 0
A18: 学年 | B18: ='出品申込書（R8～）'!M26 -> 0 | D18: 学年 | E18: ='出品申込書（R8～）'!M27 -> 0 | G18: 学年 | H18: ='出品申込書（R8～）'!M28 -> 0
A19: 受付番号 | B19: ='出品申込書（R8～）'!B26 -> 0 | D19: 受付番号 | E19: ='出品申込書（R8～）'!B27 -> 0 | G19: 受付番号 | H19: ='出品申込書（R8～）'!B28 -> 0
A21: 【作品貼り付け票７】 | D21: 【作品貼り付け票８】 | G21: 【作品貼り付け票９】
A22: ふりがな | B22: ='出品申込書（R8～）'!D29 -> 0 | D22: ふりがな | E22: ='出品申込書（R8～）'!D30 -> 0 | G22: ふりがな | H22: ='出品申込書（R8～）'!D31 -> 0
A23: 氏名 | B23: ='出品申込書（R8～）'!C29 -> 0 | D23: 氏名 | E23: ='出品申込書（R8～）'!C30 -> 0 | G23: 氏名 | H23: ='出品申込書（R8～）'!C31 -> 0
A24: ふりがな | B24: ='出品申込書（R8～）'!G29 -> 0 | D24: ふりがな | E24: ='出品申込書（R8～）'!G30 -> 0 | G24: ふりがな | H24: ='出品申込書（R8～）'!G31 -> 0
A25: 題名 | B25: ='出品申込書（R8～）'!F29 -> 0 | D25: 題名 | E25: ='出品申込書（R8～）'!F30 -> 0 | G25: 題名 | H25: ='出品申込書（R8～）'!F31 -> 0
A26: 種目 | B26: ='出品申込書（R8～）'!C18 -> 0 | D26: 種目 | E26: ='出品申込書（R8～）'!C18 -> 0 | G26: 種目 | H26: ='出品申込書（R8～）'!C18 -> 0
A27: 学校名 | B27: ='出品申込書（R8～）'!L29 -> 0 | D27: 学校名 | E27: ='出品申込書（R8～）'!L30 -> 0 | G27: 学校名 | H27: ='出品申込書（R8～）'!L31 -> 0
A28: 学年 | B28: ='出品申込書（R8～）'!M29 -> 0 | D28: 学年 | E28: ='出品申込書（R8～）'!M30 -> 0 | G28: 学年 | H28: ='出品申込書（R8～）'!M31 -> 0
A29: 受付番号 | B29: ='出品申込書（R8～）'!B29 -> 0 | D29: 受付番号 | E29: ='出品申込書（R8～）'!B30 -> 0 | G29: 受付番号 | H29: ='出品申込書（R8～）'!B31 -> 0
A31: 【作品貼り付け票１０】 | D31: 【作品貼り付け票１１】 | G31: 【作品貼り付け票１２】
A32: ふりがな | B32: ='出品申込書（R8～）'!D32 -> 0 | D32: ふりがな | E32: ='出品申込書（R8～）'!D33 -> 0 | G32: ふりがな | H32: ='出品申込書（R8～）'!D34 -> 0
A33: 氏名 | B33: ='出品申込書（R8～）'!C32 -> 0 | D33: 氏名 | E33: ='出品申込書（R8～）'!C33 -> 0 | G33: 氏名 | H33: ='出品申込書（R8～）'!C34 -> 0
A34: ふりがな | B34: ='出品申込書（R8～）'!G32 -> 0 | D34: ふりがな | E34: ='出品申込書（R8～）'!G33 -> 0 | G34: ふりがな | H34: ='出品申込書（R8～）'!G34 -> 0
A35: 題名 | B35: ='出品申込書（R8～）'!F32 -> 0 | D35: 題名 | E35: ='出品申込書（R8～）'!F33 -> 0 | G35: 題名 | H35: ='出品申込書（R8～）'!F34 -> 0
A36: 種目 | B36: ='出品申込書（R8～）'!C18 -> 0 | D36: 種目 | E36: ='出品申込書（R8～）'!C18 -> 0 | G36: 種目 | H36: ='出品申込書（R8～）'!C18 -> 0
A37: 学校名 | B37: ='出品申込書（R8～）'!L32 -> 0 | D37: 学校名 | E37: ='出品申込書（R8～）'!L33 -> 0 | G37: 学校名 | H37: ='出品申込書（R8～）'!L34 -> 0
A38: 学年 | B38: ='出品申込書（R8～）'!M32 -> 0 | D38: 学年 | E38: ='出品申込書（R8～）'!M33 -> 0 | G38: 学年 | H38: ='出品申込書（R8～）'!M34 -> 0
A39: 受付番号 | B39: ='出品申込書（R8～）'!B32 -> 0 | D39: 受付番号 | E39: ='出品申込書（R8～）'!B33 -> 0 | G39: 受付番号 | H39: ='出品申込書（R8～）'!B34 -> 0
A41: 【作品貼り付け票１３】 | D41: 【作品貼り付け票１４】 | G41: 【作品貼り付け票１５】
A42: ふりがな | B42: ='出品申込書（R8～）'!D35 -> 0 | D42: ふりがな | E42: ='出品申込書（R8～）'!D36 -> 0 | G42: ふりがな | H42: ='出品申込書（R8～）'!D37 -> 0
A43: 氏名 | B43: ='出品申込書（R8～）'!C35 -> 0 | D43: 氏名 | E43: ='出品申込書（R8～）'!C36 -> 0 | G43: 氏名 | H43: ='出品申込書（R8～）'!C37 -> 0
A44: ふりがな | B44: ='出品申込書（R8～）'!G35 -> 0 | D44: ふりがな | E44: ='出品申込書（R8～）'!G36 -> 0 | G44: ふりがな | H44: ='出品申込書（R8～）'!G37 -> 0
...

Sheet 【編集しないでください】作品預かり証（R8～）
A1: 【作品預かり証１】 | D1: 【作品預かり証２】 | G1: 【作品預かり証３】
A2: ふりがな | B2: ='出品申込書（R8～）'!D23 -> 0 | D2: ふりがな | E2: ='出品申込書（R8～）'!D24 -> 0 | G2: ふりがな | H2: ='出品申込書（R8～）'!D25 -> 0
A3: 氏名 | B3: ='出品申込書（R8～）'!C23 -> 0 | D3: 氏名 | E3: ='出品申込書（R8～）'!C24 -> 0 | G3: 氏名 | H3: ='出品申込書（R8～）'!C25 -> 0
A4: ふりがな | B4: ='出品申込書（R8～）'!G23 -> 0 | D4: ふりがな | E4: ='出品申込書（R8～）'!G24 -> 0 | G4: ふりがな | H4: ='出品申込書（R8～）'!G25 -> 0
A5: 題名 | B5: ='出品申込書（R8～）'!F23 -> 0 | D5: 題名 | E5: ='出品申込書（R8～）'!F24 -> 0 | G5: 題名 | H5: ='出品申込書（R8～）'!F25 -> 0
A6: 種目 | B6: ='出品申込書（R8～）'!C18 -> 0 | D6: 種目 | E6: ='出品申込書（R8～）'!C18 -> 0 | G6: 種目 | H6: ='出品申込書（R8～）'!C18 -> 0
A7: 学校名 | B7: ='出品申込書（R8～）'!L23 -> 0 | D7: 学校名 | E7: ='出品申込書（R8～）'!L24 -> 0 | G7: 学校名 | H7: ='出品申込書（R8～）'!L25 -> 0
A8: 学年 | B8: ='出品申込書（R8～）'!M23 -> 0 | D8: 学年 | E8: ='出品申込書（R8～）'!M24 -> 0 | G8: 学年 | H8: ='出品申込書（R8～）'!M25 -> 0
A9: 受付番号 | B9: ='出品申込書（R8～）'!B23 -> 0 | D9: 受付番号 | E9: ='出品申込書（R8～）'!B24 -> 0 | G9: 受付番号 | H9: ='出品申込書（R8～）'!B25 -> 0
A11: 【作品預かり証４】 | D11: 【作品預かり証５】 | G11: 【作品預かり証６】
A12: ふりがな | B12: ='出品申込書（R8～）'!D26 -> 0 | D12: ふりがな | E12: ='出品申込書（R8～）'!D27 -> 0 | G12: ふりがな | H12: ='出品申込書（R8～）'!D28 -> 0
A13: 氏名 | B13: ='出品申込書（R8～）'!C26 -> 0 | D13: 氏名 | E13: ='出品申込書（R8～）'!C27 -> 0 | G13: 氏名 | H13: ='出品申込書（R8～）'!C28 -> 0
A14: ふりがな | B14: ='出品申込書（R8～）'!G26 -> 0 | D14: ふりがな | E14: ='出品申込書（R8～）'!G27 -> 0 | G14: ふりがな | H14: ='出品申込書（R8～）'!G28 -> 0
A15: 題名 | B15: ='出品申込書（R8～）'!F26 -> 0 | D15: 題名 | E15: ='出品申込書（R8～）'!F27 -> 0 | G15: 題名 | H15: ='出品申込書（R8～）'!F28 -> 0
A16: 種目 | B16: ='出品申込書（R8～）'!C18 -> 0 | D16: 種目 | E16: ='出品申込書（R8～）'!C18 -> 0 | G16: 種目 | H16: ='出品申込書（R8～）'!C18 -> 0
A17: 学校名 | B17: ='出品申込書（R8～）'!L26 -> 0 | D17: 学校名 | E17: ='出品申込書（R8～）'!L27 -> 0 | G17: 学校名 | H17: ='出品申込書（R8～）'!L28 -> 0
A18: 学年 | B18: ='出品申込書（R8～）'!M26 -> 0 | D18: 学年 | E18: ='出品申込書（R8～）'!M27 -> 0 | G18: 学年 | H18: ='出品申込書（R8～）'!M28 -> 0
A19: 受付番号 | B19: ='出品申込書（R8～）'!B26 -> 0 | D19: 受付番号 | E19: ='出品申込書（R8～）'!B27 -> 0 | G19: 受付番号 | H19: ='出品申込書（R8～）'!B28 -> 0
A21: 【作品預かり証７】 | D21: 【作品預かり証８】 | G21: 【作品預かり証９】
A22: ふりがな | B22: ='出品申込書（R8～）'!D29 -> 0 | D22: ふりがな | E22: ='出品申込書（R8～）'!D30 -> 0 | G22: ふりがな | H22: ='出品申込書（R8～）'!D31 -> 0
A23: 氏名 | B23: ='出品申込書（R8～）'!C29 -> 0 | D23: 氏名 | E23: ='出品申込書（R8～）'!C30 -> 0 | G23: 氏名 | H23: ='出品申込書（R8～）'!C31 -> 0
A24: ふりがな | B24: ='出品申込書（R8～）'!G29 -> 0 | D24: ふりがな | E24: ='出品申込書（R8～）'!G30 -> 0 | G24: ふりがな | H24: ='出品申込書（R8～）'!G31 -> 0
A25: 題名 | B25: ='出品申込書（R8～）'!F29 -> 0 | D25: 題名 | E25: ='出品申込書（R8～）'!F30 -> 0 | G25: 題名 | H25: ='出品申込書（R8～）'!F31 -> 0
A26: 種目 | B26: ='出品申込書（R8～）'!C18 -> 0 | D26: 種目 | E26: ='出品申込書（R8～）'!C18 -> 0 | G26: 種目 | H26: ='出品申込書（R8～）'!C18 -> 0
A27: 学校名 | B27: ='出品申込書（R8～）'!L29 -> 0 | D27: 学校名 | E27: ='出品申込書（R8～）'!L30 -> 0 | G27: 学校名 | H27: ='出品申込書（R8～）'!L31 -> 0
A28: 学年 | B28: ='出品申込書（R8～）'!M29 -> 0 | D28: 学年 | E28: ='出品申込書（R8～）'!M30 -> 0 | G28: 学年 | H28: ='出品申込書（R8～）'!M31 -> 0
A29: 受付番号 | B29: ='出品申込書（R8～）'!B29 -> 0 | D29: 受付番号 | E29: ='出品申込書（R8～）'!B30 -> 0 | G29: 受付番号 | H29: ='出品申込書（R8～）'!B31 -> 0
A31: 【作品預かり証１０】 | D31: 【作品預かり証１１】 | G31: 【作品預かり証１２】
A32: ふりがな | B32: ='出品申込書（R8～）'!D32 -> 0 | D32: ふりがな | E32: ='出品申込書（R8～）'!D33 -> 0 | G32: ふりがな | H32: ='出品申込書（R8～）'!D34 -> 0
A33: 氏名 | B33: ='出品申込書（R8～）'!C32 -> 0 | D33: 氏名 | E33: ='出品申込書（R8～）'!C33 -> 0 | G33: 氏名 | H33: ='出品申込書（R8～）'!C34 -> 0
A34: ふりがな | B34: ='出品申込書（R8～）'!G32 -> 0 | D34: ふりがな | E34: ='出品申込書（R8～）'!G33 -> 0 | G34: ふりがな | H34: ='出品申込書（R8～）'!G34 -> 0
A35: 題名 | B35: ='出品申込書（R8～）'!F32 -> 0 | D35: 題名 | E35: ='出品申込書（R8～）'!F33 -> 0 | G35: 題名 | H35: ='出品申込書（R8～）'!F34 -> 0
A36: 種目 | B36: ='出品申込書（R8～）'!C18 -> 0 | D36: 種目 | E36: ='出品申込書（R8～）'!C18 -> 0 | G36: 種目 | H36: ='出品申込書（R8～）'!C18 -> 0
A37: 学校名 | B37: ='出品申込書（R8～）'!L32 -> 0 | D37: 学校名 | E37: ='出品申込書（R8～）'!L33 -> 0 | G37: 学校名 | H37: ='出品申込書（R8～）'!L34 -> 0
A38: 学年 | B38: ='出品申込書（R8～）'!M32 -> 0 | D38: 学年 | E38: ='出品申込書（R8～）'!M33 -> 0 | G38: 学年 | H38: ='出品申込書（R8～）'!M34 -> 0
A39: 受付番号 | B39: ='出品申込書（R8～）'!B32 -> 0 | D39: 受付番号 | E39: ='出品申込書（R8～）'!B33 -> 0 | G39: 受付番号 | H39: ='出品申込書（R8～）'!B34 -> 0
A41: 【作品預かり証１３】 | D41: 【作品預かり証１４】 | G41: 【作品預かり証１５】
A42: ふりがな | B42: ='出品申込書（R8～）'!D35 -> 0 | D42: ふりがな | E42: ='出品申込書（R8～）'!D36 -> 0 | G42: ふりがな | H42: ='出品申込書（R8～）'!D37 -> 0
A43: 氏名 | B43: ='出品申込書（R8～）'!C35 -> 0 | D43: 氏名 | E43: ='出品申込書（R8～）'!C36 -> 0 | G43: 氏名 | H43: ='出品申込書（R8～）'!C37 -> 0
A44: ふりがな | B44: ='出品申込書（R8～）'!G35 -> 0 | D44: ふりがな | E44: ='出品申込書（R8～）'!G36 -> 0 | G44: ふりがな | H44: ='出品申込書（R8～）'!G37 -> 0
...

Sheet 【編集しないでください】
A2: 絵画
A3: 書
A4: 彫刻
A5: 工芸
A6: 写真
A7: デザイン
B10: 作品貼り付け票と預かり証を、A３サイズに印刷するときは、拡大・縮小設定で「150%」に設定すること
